BEGIN:VCALENDAR
VERSION:2.0
PRODID:-//Tukios.com/
BEGIN:VEVENT
UID:3bec86d5-e897-4d0e-9f80-c37c86ea0e11@www.peterseimfuneralhome.com
DTSTAMP:20260422T071021Z
DTSTART:20260620T160000Z
DTEND:20260620T170000Z
SUMMARY:Memorial Service
DESCRIPTION:
URL:https://www.peterseimfuneralhome.com/obituaries/grace-mcgeehon
LOCATION: 811 3rd Street  Kalona IA 52247
GEO:41.490468;-91.7110851
END:VEVENT
END:VCALENDAR