BEGIN:VCALENDAR
VERSION:2.0
PRODID:-//Tukios.com/
BEGIN:VEVENT
UID:a222ab60-7096-4799-a616-58a7f9970fec@www.peterseimfuneralhome.com
DTSTAMP:20260422T070548Z
DTSTART:20260622T160000Z
DTEND:20260622T170000Z
SUMMARY:Graveside Service
DESCRIPTION:
URL:https://www.peterseimfuneralhome.com/obituaries/grace-mcgeehon
LOCATION:Indianola IOOF Cemetery 1202 S Jefferson Way  Indianola IA 50125
GEO:41.3507966;-93.5577853
END:VEVENT
END:VCALENDAR